BEGIN:VCALENDAR
VERSION:2.0
PRODID:-//The Tennis and Racquet Club (T&amp;R) - ECPv6.3.7//NONSGML v1.0//EN
CALSCALE:GREGORIAN
METHOD:PUBLISH
X-ORIGINAL-URL:https://tandr.org
X-WR-CALDESC:Events for The Tennis and Racquet Club (T&amp;R)
REFRESH-INTERVAL;VALUE=DURATION:PT1H
X-Robots-Tag:noindex
X-PUBLISHED-TTL:PT1H
BEGIN:VTIMEZONE
TZID:America/New_York
BEGIN:DAYLIGHT
TZOFFSETFROM:-0500
TZOFFSETTO:-0400
TZNAME:EDT
DTSTART:20230312T070000
END:DAYLIGHT
BEGIN:STANDARD
TZOFFSETFROM:-0400
TZOFFSETTO:-0500
TZNAME:EST
DTSTART:20231105T060000
END:STANDARD
END:VTIMEZONE
BEGIN:VEVENT
DTSTART;TZID=America/New_York:20231010T180000
DTEND;TZID=America/New_York:20231010T200000
DTSTAMP:20260423T154550
CREATED:20231005T165740Z
LAST-MODIFIED:20231005T165740Z
UID:981-1696960800-1696968000@tandr.org
SUMMARY:6.0 MA Squash League
DESCRIPTION:
URL:https://tandr.org/event/6-0-ma-squash-league/
CATEGORIES:Squash
END:VEVENT
BEGIN:VEVENT
DTSTART;TZID=America/New_York:20231011T170000
DTEND;TZID=America/New_York:20231011T183000
DTSTAMP:20260423T154550
CREATED:20231005T170821Z
LAST-MODIFIED:20231005T170821Z
UID:1005-1697043600-1697049000@tandr.org
SUMMARY:3.0 Squash Clinic
DESCRIPTION:
URL:https://tandr.org/event/3-0-squash-clinic/
CATEGORIES:Squash
ORGANIZER;CN="George SC":MAILTO:george@tandr.org
END:VEVENT
BEGIN:VEVENT
DTSTART;TZID=America/New_York:20231018T170000
DTEND;TZID=America/New_York:20231018T183000
DTSTAMP:20260423T154550
CREATED:20231005T170901Z
LAST-MODIFIED:20231005T170901Z
UID:1008-1697648400-1697653800@tandr.org
SUMMARY:3.0 Squash Clinic
DESCRIPTION:
URL:https://tandr.org/event/3-0-squash-clinic-2/
CATEGORIES:Squash
ORGANIZER;CN="George SC":MAILTO:george@tandr.org
END:VEVENT
BEGIN:VEVENT
DTSTART;TZID=America/New_York:20231025T170000
DTEND;TZID=America/New_York:20231025T183000
DTSTAMP:20260423T154550
CREATED:20231005T170931Z
LAST-MODIFIED:20231005T170931Z
UID:1010-1698253200-1698258600@tandr.org
SUMMARY:3.0 Squash Clinic
DESCRIPTION:
URL:https://tandr.org/event/3-0-squash-clinic-3/
CATEGORIES:Squash
ORGANIZER;CN="George SC":MAILTO:george@tandr.org
END:VEVENT
END:VCALENDAR