BEGIN:VCALENDAR
VERSION:2.0
PRODID:-//The Tennis and Racquet Club (T&amp;R) - ECPv6.3.7//NONSGML v1.0//EN
CALSCALE:GREGORIAN
METHOD:PUBLISH
X-WR-CALNAME:The Tennis and Racquet Club (T&amp;R)
X-ORIGINAL-URL:https://tandr.org
X-WR-CALDESC:Events for The Tennis and Racquet Club (T&amp;R)
REFRESH-INTERVAL;VALUE=DURATION:PT1H
X-Robots-Tag:noindex
X-PUBLISHED-TTL:PT1H
BEGIN:VTIMEZONE
TZID:America/New_York
BEGIN:DAYLIGHT
TZOFFSETFROM:-0500
TZOFFSETTO:-0400
TZNAME:EDT
DTSTART:20250309T070000
END:DAYLIGHT
BEGIN:STANDARD
TZOFFSETFROM:-0400
TZOFFSETTO:-0500
TZNAME:EST
DTSTART:20251102T060000
END:STANDARD
END:VTIMEZONE
BEGIN:VEVENT
DTSTART;VALUE=DATE:20250404
DTEND;VALUE=DATE:20250407
DTSTAMP:20260423T023639
CREATED:20250120T185719Z
LAST-MODIFIED:20250120T185719Z
UID:1366-1743724800-1743983999@tandr.org
SUMMARY:U.S. Over 40s
DESCRIPTION:
URL:https://tandr.org/event/u-s-over-40s/
END:VEVENT
END:VCALENDAR