BEGIN:VCALENDAR
VERSION:2.0
PRODID:-//The Tennis and Racquet Club (T&amp;R) - ECPv6.3.7//NONSGML v1.0//EN
CALSCALE:GREGORIAN
METHOD:PUBLISH
X-WR-CALNAME:The Tennis and Racquet Club (T&amp;R)
X-ORIGINAL-URL:https://tandr.org
X-WR-CALDESC:Events for The Tennis and Racquet Club (T&amp;R)
REFRESH-INTERVAL;VALUE=DURATION:PT1H
X-Robots-Tag:noindex
X-PUBLISHED-TTL:PT1H
BEGIN:VTIMEZONE
TZID:America/New_York
BEGIN:DAYLIGHT
TZOFFSETFROM:-0500
TZOFFSETTO:-0400
TZNAME:EDT
DTSTART:20230312T070000
END:DAYLIGHT
BEGIN:STANDARD
TZOFFSETFROM:-0400
TZOFFSETTO:-0500
TZNAME:EST
DTSTART:20231105T060000
END:STANDARD
END:VTIMEZONE
BEGIN:VEVENT
DTSTART;TZID=America/New_York:20231021T100000
DTEND;TZID=America/New_York:20231021T110000
DTSTAMP:20260424T081042
CREATED:20231002T163325Z
LAST-MODIFIED:20231002T163325Z
UID:972-1697882400-1697886000@tandr.org
SUMMARY:Cycle Class
DESCRIPTION:
URL:https://tandr.org/event/cycle-class-12/
ATTACH;FMTTYPE=image/png:https://tandr.org/wp-content/uploads/2023/10/Yoganviu-Yoga-Flyer.png
END:VEVENT
END:VCALENDAR